BEGIN:VCALENDAR
PRODID:-//eluceo/ical//2.0/EN
VERSION:2.0
CALSCALE:GREGORIAN
BEGIN:VEVENT
UID:24d7f7fc778ec63ba5c2fee9bf57cddb
DTSTAMP:20260425T131011Z
SUMMARY:Histoire d'un malgré-nous
DESCRIPTION:26 août 1942\nDans une Alsace annexée depuis deux ans par le 
 IIIème Reich\, le Gauleiter Wagner publie un décret qui ordonne  le ser
 vice militaire obligatoire des Alsaciens dans l’Armée allemande.\n\n\n\
 n \n\nLéon Laugel a 19 ans et\, comme ses camarades de Marlenheim\, il d
 oit se résoudre à obtempérer faute à voir l’ensemble de sa famille d
 éportée.\nAprès un passage par l’Allemagne\, il se retrouve en Russie
  avec désormais une seule motivation : tenir\, tenir. Soldat d'aucun camp
 \, il a vu les atrocités des nazis\, mais aussi celles des Soviétiques e
 t puis encore celles de centaines d'êtres humains qui se trahissaient eux
 -mêmes pour ne pas mourir.\nIl lui faudra attendre 1945 pour franchir à 
 nouveau le Rhin et regagner son Alsace natale sain et sauf\, ce qui ne fut
  hélas pas le cas de bon nombre de ses camarades d’infortune.\n\n\n\nA 
 95 ans mais toujours aussi sémillant\, Léon Laugel\, livre un témoignag
 e rare sur les malgré-nous d’Alsace et de Lorraine\, souvent oubliés d
 ans le récit de la seconde guerre mondiale.\n\nUne conférence pour ne pa
 s oublier et qu'on pourra prolonger par la lecture de "la Marseillaise d'u
 n malgré-nous"\, ouvrage publié en 2005 par Léon Laugel.\nWebsite: http
 ://www.rotarysaverne.org\nSpeaker(s): de l'Alsace au front russe\, confér
 ence de Léon Laugel.
URL:https://rotarysaverne.ovh/en/agenda/show/15355
DTSTART;TZID=Europe/Zurich:20190325T200000
DTEND;TZID=Europe/Zurich:20190325T220000
LOCATION:Foyer du FC Saverne\, rue Mandercheid à Saverne
CATEGORIES:Rotary
END:VEVENT
BEGIN:VTIMEZONE
TZID:Europe/Zurich
BEGIN:STANDARD
DTSTART:20190325T200000
TZNAME:CET
TZOFFSETTO:+0100
TZOFFSETFROM:+0100
END:STANDARD
END:VTIMEZONE
END:VCALENDAR
