BEGIN:VCALENDAR
PRODID:-//eluceo/ical//2.0/EN
VERSION:2.0
CALSCALE:GREGORIAN
BEGIN:VEVENT
UID:bedeb95ab01f3b467c2025e8840e6372
DTSTAMP:20260424T094825Z
SUMMARY:1ère édition de la VTT Savernoise
DESCRIPTION:Le Rotary est fier de donner rendez-vous à tous les amateurs 
 de VTT en pleine nature le dimanche 13 juin 2021 pour cette belle aventure
 \, co-organisée par le VCU Schwenheim au profit de Mécénat Chirurgie Ca
 rdiaque.\n\nLes présidents Alain Bricker pour le Rotary cluib de Saverne 
 et Sébastien Leyendecker pour le VCU Schwenheim et leurs équipes vous pr
 oposent une magnifique journée de sport et de découverte dans la cadre m
 ajestueux du circuit des châteaux aux alentours de Saverne.\n\nExperts\, 
 pros\, simples amateurs \; seul\, en équipe ou en famille\, les parcours 
 ont été adaptés à tous les niveaux et tous les publics.\n\nCliquez pou
 r plus d'informations sur cette première édition de la VTT Savernoise
URL:https://rotarysaverne.ovh/fr/agenda/show/22807
DTSTART;TZID=Europe/Zurich:20210613T090000
DTEND;TZID=Europe/Zurich:20210613T180000
LOCATION:Site du Haut-Barr à Saverne
CATEGORIES:Rotary
END:VEVENT
BEGIN:VTIMEZONE
TZID:Europe/Zurich
BEGIN:DAYLIGHT
DTSTART:20210613T090000
TZNAME:CEST
TZOFFSETTO:+0200
TZOFFSETFROM:+0200
END:DAYLIGHT
END:VTIMEZONE
END:VCALENDAR
