BEGIN:VCALENDAR
PRODID:-//eluceo/ical//2.0/EN
VERSION:2.0
CALSCALE:GREGORIAN
BEGIN:VEVENT
UID:588089f7f0a1ec804dbe6214115c5b4f
DTSTAMP:20260420T140321Z
SUMMARY:F - Rire et beaujolais nouveau avec l'humoriste Dany Diemer à Rein
 acker\, avec repas
DESCRIPTION:Site internet: https://goo.gl/maps/Vkd1rY3nxbUcxhrN9\nConféren
 cier(s): Prix 29 € + boissons non incluses. Invitez vos amis !Vente des
  billets via helloasso  (lien ci-dessous)
URL:https://rotarysaverne.ovh/fr/agenda/show/51527
DTSTART;TZID=Europe/Zurich:20251120T183000
DTEND;TZID=Europe/Zurich:20251120T223000
LOCATION:Salle du Sanctuaire de Reinacker\, 21 rue du Couvent\, 67440 REUTE
 NBOURG\, France
CATEGORIES:Rotary
END:VEVENT
BEGIN:VTIMEZONE
TZID:Europe/Zurich
BEGIN:STANDARD
DTSTART:20251120T183000
TZNAME:CET
TZOFFSETTO:+0100
TZOFFSETFROM:+0100
END:STANDARD
END:VTIMEZONE
END:VCALENDAR
